BEGIN:VCALENDAR
VERSION:2.0
PRODID:-//ChamberMaster//Event Calendar 2.0//EN
METHOD:PUBLISH
X-PUBLISHED-TTL:P3D
REFRESH-INTERVAL:P3D
CALSCALE:GREGORIAN
BEGIN:VEVENT
DTSTART:20160525T193000Z
DTEND:20160525T203000Z
X-MICROSOFT-CDO-ALLDAYEVENT:FALSE
SUMMARY:TAN Information Day
DESCRIPTION:Technology needs in Nebraska go far beyond Omaha and Lincoln. Every community in the state has technology needs as technology now permeates through every industry. Those needs must be made aware and addressed\, which is why the Technology Association of Nebraska (TAN) was created to address four main pillars: Visibility\, Education\, Workforce\, and Advocacy. Please join the TAN Executive Director\, Stan Pierce\, and TAN Board President\, Joseph Knecht\, to learn more about the organization\, their mission\, and how you can join their efforts.
X-ALT-DESC;FMTTYPE=text/html:<p class="basicparagraph"><span style="font-size:16.0pt">Technology needs in Nebraska go far beyond Omaha and Lincoln. Every community in the state has technology needs as technology now permeates through every industry. Those needs must be made aware and addressed\, which is why the Technology Association of Nebraska (TAN) was created to address four main pillars: Visibility\, Education\, Workforce\, and Advocacy. Please join the <b>TAN Executive Director\, </b></span><b><span style="font-size:16.0pt\;font-family:URWGroteskTMed">Stan Pierce</span></b><span style="font-size:16.0pt">\, and <b>TAN Board President\, </b></span><b><span style="font-size:16.0pt\;font-family:URWGroteskTMed">Joseph Knecht</span></b><span style="font-size:16.0pt\;font-family:URWGroteskTMed">\,</span><span style="font-size:16.0pt"> to learn more about the organization\, their mission\, and how you can join their efforts.</span><o:p></o:p></p>\n
LOCATION:Kearney Area Chamber of Commerce 1007 2nd Avenue
UID:e.1404.8750
SEQUENCE:3
DTSTAMP:20260421T202138Z
URL:https://members.kearneycoc.org/events/details/tan-information-day-05-25-2016-8750
END:VEVENT

END:VCALENDAR
