BEGIN:VCALENDAR
VERSION:2.0
PRODID:-//ChamberMaster//Event Calendar 2.0//EN
METHOD:PUBLISH
X-PUBLISHED-TTL:P3D
REFRESH-INTERVAL:P3D
CALSCALE:GREGORIAN
BEGIN:VEVENT
DTSTART;VALUE=DATE:20210918
DTEND;VALUE=DATE:20210924
TRANSP:TRANSPARENT
X-MICROSOFT-CDO-ALLDAYEVENT:TRUE
SUMMARY:Taste Kearney - Restaurant Week
DESCRIPTION:Eat. Drink. Repeat. during Taste Kearney - Restaurant Week! Visit participating businesses from Sept. 18-23 to check out special menu items and promotions.
X-ALT-DESC;FMTTYPE=text/html:Eat. Drink. Repeat. during Taste Kearney - Restaurant Week! Visit participating businesses from Sept. 18-23 to check out special menu items and promotions.&nbsp\;
LOCATION:
UID:e.1404.19377
SEQUENCE:3
DTSTAMP:20260424T003921Z
URL:https://members.kearneycoc.org/events/details/taste-kearney-restaurant-week-19377
END:VEVENT

END:VCALENDAR
