BEGIN:VCALENDAR
VERSION:2.0
PRODID:-//ChamberMaster//Event Calendar 2.0//EN
METHOD:PUBLISH
X-PUBLISHED-TTL:P3D
REFRESH-INTERVAL:P3D
CALSCALE:GREGORIAN
BEGIN:VEVENT
DTSTART:20210918T160000Z
DTEND:20210918T180000Z
X-MICROSOFT-CDO-ALLDAYEVENT:FALSE
SUMMARY:Taste Kearney Tailgate - Loper Football Game
DESCRIPTION:Be sure to bring your family and appetite to the Taste Kearney Tailgate on September 18th during the Loper home football game! Vendors from around Kearney will be serving up sweet and savory dishes for lunch from 11:00am-1:00pm.
X-ALT-DESC;FMTTYPE=text/html:<p dir="ltr" style="line-height:1.38\;margin-top:0pt\;margin-bottom:0pt\;"><span id="docs-internal-guid-13882174-7fff-8a4f-bc88-7cd78ece88a8"><span style="font-size: 11pt\; font-family: Arial\; color: rgb(0\, 0\, 0)\; background-color: transparent\; font-variant-numeric: normal\; font-variant-east-asian: normal\; vertical-align: baseline\; white-space: pre-wrap\;">Be sure to bring your family and appetite to the Taste Kearney Tailgate on September 18th during the Loper home football game! Vendors from around Kearney will be serving up sweet and savory dishes for lunch from 11:00am-1:00pm.</span></span></p>\n
LOCATION:
UID:e.1404.19378
SEQUENCE:3
DTSTAMP:20260424T004057Z
URL:https://members.kearneycoc.org/events/details/taste-kearney-tailgate-loper-football-game-19378
END:VEVENT

END:VCALENDAR
