BEGIN:VCALENDAR
VERSION:2.0
PRODID:-//ChamberMaster//Event Calendar 2.0//EN
METHOD:PUBLISH
X-PUBLISHED-TTL:P3D
REFRESH-INTERVAL:P3D
CALSCALE:GREGORIAN
BEGIN:VEVENT
DTSTART;VALUE=DATE:20210921
DTEND;VALUE=DATE:20210922
TRANSP:TRANSPARENT
X-MICROSOFT-CDO-ALLDAYEVENT:TRUE
SUMMARY:Taste Kearney - Take Out Tuesday
DESCRIPTION:It's go time! we will be promoting people to grab & go - have a picnic\, take it home . . .
X-ALT-DESC;FMTTYPE=text/html:<span class="JsGRdQ">It&#39\;s go time! we will be promoting people to grab &amp\; go - have a picnic\, take it home . . .</span>
LOCATION:
UID:e.1404.19381
SEQUENCE:3
DTSTAMP:20260424T020713Z
URL:https://members.kearneycoc.org/events/details/taste-kearney-take-out-tuesday-19381
END:VEVENT

END:VCALENDAR
