BEGIN:VCALENDAR
VERSION:2.0
PRODID:-//ChamberMaster//Event Calendar 2.0//EN
METHOD:PUBLISH
X-PUBLISHED-TTL:P3D
REFRESH-INTERVAL:P3D
CALSCALE:GREGORIAN
BEGIN:VEVENT
DTSTART;VALUE=DATE:20210922
DTEND;VALUE=DATE:20210923
TRANSP:TRANSPARENT
X-MICROSOFT-CDO-ALLDAYEVENT:TRUE
SUMMARY:Taste Kearney - Workplace Wednesday & Date Night
DESCRIPTION:Take one with the team! We will be encouraging businesses to go out to eat together for their lunch break. after dark is date night! be prepared to serve up your best dinner for 2.
X-ALT-DESC;FMTTYPE=text/html:<span class="JsGRdQ">Take one with the team! We will be encouraging businesses to go out to eat together for their lunch break. after dark is date night! be prepared to serve up your best dinner for 2.</span>
LOCATION:
UID:e.1404.19382
SEQUENCE:3
DTSTAMP:20260424T020720Z
URL:https://members.kearneycoc.org/events/details/taste-kearney-workplace-wednesday-date-night-19382
END:VEVENT

END:VCALENDAR
