BEGIN:VCALENDAR
VERSION:2.0
PRODID:-//ChamberMaster//Event Calendar 2.0//EN
METHOD:PUBLISH
X-PUBLISHED-TTL:P3D
REFRESH-INTERVAL:P3D
CALSCALE:GREGORIAN
BEGIN:VEVENT
DTSTART:20190310T010500Z
DTEND:20190310T030000Z
X-MICROSOFT-CDO-ALLDAYEVENT:FALSE
SUMMARY:Taste of Nebraska: Tri-City Storm vs. Sioux City Musketeers
DESCRIPTION:70's Night: Tri-City Storm vs. Sioux City Musketeers\n\nPresented by First National Bank
X-ALT-DESC;FMTTYPE=text/html:70&rsquo\;s Night: Tri-City Storm vs. Sioux City Musketeers<br />\n<span style="color:#333333\;"><span style="font-family:arial\,sans-serif\;"><span style="font-size:10.0pt\;"><span style="background:white\;"><span style="font-variant-ligatures:normal\;font-variant-caps:normal\;orphans:2\;text-align:start\;widows:2\;-webkit-text-stroke-width:0px\;text-decoration-style:initial\;float:none\;word-spacing:0px\;">Presented by&nbsp\;First National Bank</span></span></span></span></span>
LOCATION:Viaero Event Center
UID:e.1404.13982
SEQUENCE:3
DTSTAMP:20260426T033536Z
URL:https://members.kearneycoc.org/events/details/taste-of-nebraska-tri-city-storm-vs-sioux-city-musketeers-13982
END:VEVENT

END:VCALENDAR
