BEGIN:VCALENDAR
VERSION:2.0
PRODID:-//ChamberMaster//Event Calendar 2.0//EN
METHOD:PUBLISH
X-PUBLISHED-TTL:P3D
REFRESH-INTERVAL:P3D
CALSCALE:GREGORIAN
BEGIN:VEVENT
DTSTART:20160505T220000Z
DTEND:20160506T020000Z
X-MICROSOFT-CDO-ALLDAYEVENT:FALSE
SUMMARY:Taste & Tour - Experience Downtown Kearney
DESCRIPTION:Experience Downtown Kearney! Join us May 5th as participating businesses showcase their products and services throughout the evening. Patrons are encouraged to purchase a $20 ticket in advance\, as only 300 will be available. Tour downtown and get a taste for what our restaurants and local businesses have to offer. Ticket holders can look forward to samples of delicious food\, unique products\, a fashion show\, DIY demos\, massages and more!\n\n\n\nAll patrons will have the chance to win several great prizes packages\, including gifts cards to all participating businesses.\n\n\n\nYou must be 21 to attend. Participants will be required to check in and show ID's. \n\n\n\nClick HERE to purchase tickets.
X-ALT-DESC;FMTTYPE=text/html:<font face="verdana"><span style="font-size: 14px\; line-height: 22.4px\;">Experience Downtown Kearney! Join us May 5th as participating businesses showcase their products and services throughout the evening. Patrons are encouraged to purchase a $20 ticket in advance\, as only 300 will be available. Tour downtown and get a taste for what our restaurants and local businesses have to offer. Ticket holders can look forward to samples of delicious food\, unique products\, a fashion show\, DIY demos\, massages and more!<br />\n<br />\nAll patrons will have the chance to win several great prizes packages\, including gifts cards to all participating businesses.<br />\n<br />\nYou must be 21 to attend. Participants will be required to check in and show ID&#39\;s.&nbsp\;<br />\n<br />\nClick <a href="http://downtownkearney.com/event/taste-tour-experience-downtown-kearney/">HERE</a> to purchase tickets.</span></font>
LOCATION:Downtown Kearney
UID:e.1404.8538
SEQUENCE:3
DTSTAMP:20260421T220011Z
URL:https://members.kearneycoc.org/events/details/taste-tour-experience-downtown-kearney-05-05-2016-8538
END:VEVENT

END:VCALENDAR
