BEGIN:VCALENDAR
VERSION:2.0
PRODID:-//ChamberMaster//Event Calendar 2.0//EN
METHOD:PUBLISH
X-PUBLISHED-TTL:P3D
REFRESH-INTERVAL:P3D
CALSCALE:GREGORIAN
BEGIN:VEVENT
DTSTART:20190311T203000Z
DTEND:20190311T223000Z
X-MICROSOFT-CDO-ALLDAYEVENT:FALSE
SUMMARY:TED Talks
DESCRIPTION:Join a variety of moderators for this Senior College class. Have you ever stumbled across a TED Talk on You Tube or listened to one on NPR? If so\, you already know that the subjects can be serious or quirky\, deeply emotional or highly intellectual. And you also know that no matter the subject\, the talk is bound to get you thinking and anxious to talk with someone about it. For each weekly class\, two or three TED videos on a specific topic will be presented followed by a group discussion on the "topic of the week." So put on your "thinking cap" and join the adventure.
X-ALT-DESC;FMTTYPE=text/html:Join a variety of moderators for this Senior College class. Have you ever stumbled across a TED Talk on You Tube or listened to one on NPR? If so\, you already know that the subjects can be serious or quirky\, deeply emotional or highly intellectual. And you also know that no matter the subject\, the talk is bound to get you thinking and anxious to talk with someone about it. For each weekly class\, two or three TED videos on a specific topic will be presented followed by a group discussion on the &ldquo\;topic of the week.&rdquo\; So put on your &ldquo\;thinking cap&rdquo\; and join the adventure.
LOCATION:Kearney Public Library Niobrara Room
UID:e.1404.15403
SEQUENCE:3
DTSTAMP:20260426T032336Z
URL:https://members.kearneycoc.org/events/details/ted-talks-15403
END:VEVENT

END:VCALENDAR
