BEGIN:VCALENDAR
VERSION:2.0
PRODID:-//ChamberMaster//Event Calendar 2.0//EN
METHOD:PUBLISH
X-PUBLISHED-TTL:P3D
REFRESH-INTERVAL:P3D
CALSCALE:GREGORIAN
BEGIN:VEVENT
DTSTART:20210423T000000Z
DTEND:20210425T030000Z
X-MICROSOFT-CDO-ALLDAYEVENT:FALSE
SUMMARY:The All Night Strut
DESCRIPTION:Swing's the thing in this classy\, sassy musical celebration of the 1930s and '40s filled with jazz\, blues and American songbook standards! Weaving together the work of legendary songwriters such as Frank Loesser\, Duke Ellington\, Johnny Mercer\, Cab Calloway and the Gershwins\, the story moves through time and place to capture a beloved American era.
X-ALT-DESC;FMTTYPE=text/html:Swing&rsquo\;s the thing in this classy\, sassy musical celebration of the 1930s and &rsquo\;40s filled with jazz\, blues and American songbook standards! Weaving together the work of legendary songwriters such as Frank Loesser\, Duke Ellington\, Johnny Mercer\, Cab Calloway and the Gershwins\, the story moves through time and place to capture a beloved American era.
LOCATION:The World Theatre 2318 Central Avenue Kearney\, Nebraska 68847
UID:e.1404.19249
SEQUENCE:3
DTSTAMP:20260424T103152Z
URL:https://members.kearneycoc.org/events/details/the-all-night-strut-19249
END:VEVENT

END:VCALENDAR
