BEGIN:VCALENDAR
VERSION:2.0
PRODID:-//ChamberMaster//Event Calendar 2.0//EN
METHOD:PUBLISH
X-PUBLISHED-TTL:P3D
REFRESH-INTERVAL:P3D
CALSCALE:GREGORIAN
BEGIN:VEVENT
DTSTART:20190503T000000Z
DTEND:20190503T040000Z
X-MICROSOFT-CDO-ALLDAYEVENT:FALSE
SUMMARY:The Beach Boys Now & Then
DESCRIPTION:Doors Open at 6 P.M.
X-ALT-DESC;FMTTYPE=text/html:Doors Open at 6 P.M.
LOCATION:Viaero Events Center
UID:e.1404.14394
SEQUENCE:3
DTSTAMP:20260426T004424Z
URL:https://members.kearneycoc.org/events/details/the-beach-boys-now-then-14394
END:VEVENT

END:VCALENDAR
