BEGIN:VCALENDAR
VERSION:2.0
PRODID:-//ChamberMaster//Event Calendar 2.0//EN
METHOD:PUBLISH
X-PUBLISHED-TTL:P3D
REFRESH-INTERVAL:P3D
CALSCALE:GREGORIAN
BEGIN:VEVENT
DTSTART:20150411T143000Z
DTEND:20150411T180000Z
X-MICROSOFT-CDO-ALLDAYEVENT:FALSE
SUMMARY:The Big Event
DESCRIPTION:The 10th Annual "The Big Event" is drawing near! As the largest student-run community service event in the nation\, "The Big Event" is positively impacting communities everywhere. Here in Kearney\, thanks to the dedicated UNK volunteers and exceptional community participation\, we have grown this event to over 800 students and 40 job sites.\n\n\n\nWe are working hard to make 2015 our most successful year yet. "The Big Event" will take place Saturday\, April 11\, 2015 beginning at 9:30 AM.\n\n\n\nIf you are interested in hosting a project site\, please contact us via email at lyonc2@lopers.unk.edu or click here for the "Job Site Request Form" and return by Friday\, March 13.
X-ALT-DESC;FMTTYPE=text/html:The 10th Annual &quot\;The Big Event&quot\; is drawing near! As the largest student-run community service event in the nation\, &quot\;The Big Event&quot\; is positively impacting communities everywhere. Here in Kearney\, thanks to the dedicated UNK volunteers and exceptional community participation\, we have grown this event to over 800 students and 40 job sites.<br />\n<br />\nWe are working hard to make 2015 our most successful year yet. &quot\;The Big Event&quot\; will take place Saturday\, April 11\, 2015 beginning at 9:30 AM.<br />\n<br />\nIf you are interested in hosting a project site\, please contact us via email at lyonc2@lopers.unk.edu or click here for the <a href="http://cloud.chambermaster.com/userfiles/UserFiles/chambers/1404/File/BigEvent.pdf">&quot\;Job Site Request Form&quot\;</a> and return by Friday\, March 13.&nbsp\;
LOCATION:Various Kearney Area Locations
UID:e.1404.5999
SEQUENCE:3
DTSTAMP:20260422T195525Z
URL:https://members.kearneycoc.org/events/details/the-big-event-04-11-2015-5999
END:VEVENT

END:VCALENDAR
