BEGIN:VCALENDAR
VERSION:2.0
PRODID:-//ChamberMaster//Event Calendar 2.0//EN
METHOD:PUBLISH
X-PUBLISHED-TTL:P3D
REFRESH-INTERVAL:P3D
CALSCALE:GREGORIAN
BEGIN:VEVENT
DTSTART:20150502T190000Z
DTEND:20150502T213000Z
X-MICROSOFT-CDO-ALLDAYEVENT:FALSE
SUMMARY:The Church Basement Ladies: The Last Potluck Supper
DESCRIPTION:It is the year 1979\, the day of the church?s Centennial Celebration\, and the parishioners have gathered to share hot dishes\, desserts\, and stories from the last 100 years. This all new production is the final chapter in the series of laugh-out-loud comedies.
X-ALT-DESC;FMTTYPE=text/html:It is the year 1979\, the day of the church?s Centennial Celebration\, and the parishioners have gathered to share hot dishes\, desserts\, and stories from the last 100 years. This all new production is the final chapter in the series of laugh-out-loud comedies.
LOCATION:Merryman Performing Arts Center 225 West 22nd Street
UID:e.1404.5334
SEQUENCE:3
DTSTAMP:20260422T165413Z
URL:https://members.kearneycoc.org/events/details/the-church-basement-ladies-the-last-potluck-supper-05-02-2015-5334
END:VEVENT

END:VCALENDAR
