BEGIN:VCALENDAR
VERSION:2.0
PRODID:-//ChamberMaster//Event Calendar 2.0//EN
METHOD:PUBLISH
X-PUBLISHED-TTL:P3D
REFRESH-INTERVAL:P3D
CALSCALE:GREGORIAN
BEGIN:VEVENT
DTSTART:20150418T000000Z
DTEND:20150418T023000Z
X-MICROSOFT-CDO-ALLDAYEVENT:FALSE
SUMMARY:The Diamonds Bandstand Boogie
DESCRIPTION:With 33 appearances on American Bandstand and hits like Silhouettes\, The Stroll\, and Little Darlin?\, The Diamonds capture the magic and enduring memories of America?s all-time favorite music-performance TV show by paying tribute to the artists that appeared on American Bandstand.
X-ALT-DESC;FMTTYPE=text/html:With 33 appearances on American Bandstand and hits like Silhouettes\, The Stroll\, and Little Darlin?\, The Diamonds capture the magic and enduring memories of America?s all-time favorite music-performance TV show by paying tribute to the artists that appeared on American Bandstand.
LOCATION:Merryman Performing Arts Center 225 West 22nd Street
UID:e.1404.5333
SEQUENCE:3
DTSTAMP:20260422T182329Z
URL:https://members.kearneycoc.org/events/details/the-diamonds-bandstand-boogie-04-17-2015-5333
END:VEVENT

END:VCALENDAR
