BEGIN:VCALENDAR
VERSION:2.0
PRODID:-//ChamberMaster//Event Calendar 2.0//EN
METHOD:PUBLISH
X-PUBLISHED-TTL:P3D
REFRESH-INTERVAL:P3D
CALSCALE:GREGORIAN
BEGIN:VEVENT
DTSTART;VALUE=DATE:20130413
DTEND;VALUE=DATE:20130414
TRANSP:TRANSPARENT
X-MICROSOFT-CDO-ALLDAYEVENT:TRUE
SUMMARY:The Eagle Riders & Rahe's of Hope 3rd Annual Pub Crawl
DESCRIPTION:The Eagle Riders & Rahe's of Hope 3rd Annual Pub Crawl\n\nSaturday April 13 Registration 11:30-1:00\n\nKearney Eagles Club\n\n17 W 24 St \n\n308-234-2216\n\nAll proceeds benefit Cancer Research
X-ALT-DESC;FMTTYPE=text/html:<span style="font-family:verdana\,sans-serif\;"><span style="font-size:10.0pt\;">The Eagle Riders &amp\; Rahe&#39\;s of Hope 3rd Annual Pub Crawl</span></span><br />\n<span style="font-family:verdana\,sans-serif\;"><span style="font-size:10.0pt\;">Saturday April 13 Registration 11:30-1:00</span></span><br />\n<span style="font-family:verdana\,sans-serif\;"><span style="font-size:10.0pt\;">Kearney Eagles Club</span></span><br />\n<span style="font-family:verdana\,sans-serif\;"><span style="font-size:10.0pt\;">17 W 24 St </span></span><br />\n<span style="font-family:verdana\,sans-serif\;"><span style="font-size:10.0pt\;">308-234-2216</span></span><br />\n<span style="font-family:verdana\,sans-serif\;"><span style="font-size:10.0pt\;">All proceeds benefit Cancer Research</span></span><br />\n
LOCATION:Kearney Eagles Club 17 W 24 St
UID:e.1404.2483
SEQUENCE:3
DTSTAMP:20260424T122719Z
URL:https://members.kearneycoc.org/events/details/the-eagle-riders-rahe-s-of-hope-3rd-annual-pub-crawl-04-13-2013-2483
END:VEVENT

END:VCALENDAR
