BEGIN:VCALENDAR
VERSION:2.0
PRODID:-//ChamberMaster//Event Calendar 2.0//EN
METHOD:PUBLISH
X-PUBLISHED-TTL:P3D
REFRESH-INTERVAL:P3D
CALSCALE:GREGORIAN
BEGIN:VEVENT
DTSTART:20211118T010000Z
DTEND:20211118T033000Z
X-MICROSOFT-CDO-ALLDAYEVENT:FALSE
SUMMARY:The Fab Four
DESCRIPTION:Experience the ultimate Beatles tribute with the Emmy-award winning The Fab Four! With uncanny\, note-for-note LIVE renditions of the Beatles' classics such as "Can't Buy Me Love\," "Yesterday\," "A Day In The Life\," "Twist And Shout\," "Here Comes The Sun\," and "Hey Jude". The Fab Four will make you think you are watching the real thing! Tickets are available online at pickmytickets.com or by calling the box office at (308) 698-8297.
X-ALT-DESC;FMTTYPE=text/html:Experience the ultimate Beatles tribute with the Emmy-award winning The Fab Four! With uncanny\, note-for-note LIVE renditions of the Beatles&#39\; classics such as &quot\;Can&#39\;t Buy Me Love\,&quot\; &quot\;Yesterday\,&quot\; &quot\;A Day In The Life\,&quot\; &quot\;Twist And Shout\,&quot\; &quot\;Here Comes The Sun\,&quot\; and &quot\;Hey Jude&quot\;. The Fab Four will make you think you are watching the real thing! Tickets are available online at pickmytickets.com or by calling the box office at (308) 698-8297.
LOCATION:Merryman Performing Arts Center 225 W 22nd Street Kearney\, NE
UID:e.1404.19445
SEQUENCE:3
DTSTAMP:20260423T213919Z
URL:https://members.kearneycoc.org/events/details/the-fab-four-19445
END:VEVENT

END:VCALENDAR
