BEGIN:VCALENDAR
VERSION:2.0
PRODID:-//ChamberMaster//Event Calendar 2.0//EN
METHOD:PUBLISH
X-PUBLISHED-TTL:P3D
REFRESH-INTERVAL:P3D
CALSCALE:GREGORIAN
BEGIN:VEVENT
DTSTART:20160915T193000Z
DTEND:20160915T210000Z
X-MICROSOFT-CDO-ALLDAYEVENT:FALSE
SUMMARY:The Fruit Club Is Coming To Town!
DESCRIPTION:The Fruit Club will be in Kearney\, NE from 2:30pm-4pm in the Kmart parking lot on 4700 2nd Ave with our Sweet Nectarines\, Washington Peaches\, and Bartlett & Starkrimson Pears! Make sure you stop by and pick up your orchard fresh fruit!
X-ALT-DESC;FMTTYPE=text/html:The Fruit Club will be in Kearney\, NE from 2:30pm-4pm in the Kmart parking lot on 4700 2nd Ave with our Sweet Nectarines\, Washington Peaches\, and Bartlett &amp\; Starkrimson Pears! Make sure you stop by and pick up your orchard fresh fruit!
LOCATION:Kmart 4700 2nd Ave\, Kearney\, NE 68847
UID:e.1404.9021
SEQUENCE:3
DTSTAMP:20260421T153351Z
URL:https://members.kearneycoc.org/events/details/the-fruit-club-is-coming-to-town-9021
END:VEVENT

END:VCALENDAR
