BEGIN:VCALENDAR
VERSION:2.0
PRODID:-//ChamberMaster//Event Calendar 2.0//EN
METHOD:PUBLISH
X-PUBLISHED-TTL:P3D
REFRESH-INTERVAL:P3D
CALSCALE:GREGORIAN
BEGIN:VEVENT
DTSTART:20160507T000000Z
DTEND:20160507T020000Z
X-MICROSOFT-CDO-ALLDAYEVENT:FALSE
SUMMARY:The Hit Men
DESCRIPTION:Five of the greatest artists instrumental in the success of fabulous songs from Fankie Valli and the 4 Seasons have united to form the Hit Men. Enjoy Who Loves You\, Can't Take My Eyes Off of You\, and songs from Tommy James & the Shondells such as Let's Hang On\, My Eyes Adored You\, and much more!
X-ALT-DESC;FMTTYPE=text/html:Five of the greatest artists instrumental in the success of fabulous songs from Fankie Valli and the 4 Seasons have united to form the Hit Men. Enjoy Who Loves You\, Can&#39\;t Take My Eyes Off of You\, and songs from Tommy James &amp\; the Shondells such as Let&#39\;s Hang On\, My Eyes Adored You\, and much more!
LOCATION:Merryman Performing Arts Center
UID:e.1404.7039
SEQUENCE:3
DTSTAMP:20260421T214603Z
URL:https://members.kearneycoc.org/events/details/the-hit-men-05-06-2016-7039
END:VEVENT

END:VCALENDAR
