BEGIN:VCALENDAR
VERSION:2.0
PRODID:-//ChamberMaster//Event Calendar 2.0//EN
METHOD:PUBLISH
X-PUBLISHED-TTL:P3D
REFRESH-INTERVAL:P3D
CALSCALE:GREGORIAN
BEGIN:VEVENT
DTSTART:20140109T143000Z
DTEND:20140109T163000Z
X-MICROSOFT-CDO-ALLDAYEVENT:FALSE
SUMMARY:The Leadership Challenge - Does anyone want to work?
DESCRIPTION:The Leadership Challenge - Does anyone want to work?\n\n	\n		Thursday\, January 9\n	\n		8:30 am-10:30 am\n	\n		Kearney Area Chamber of Commerce Board Room\n	\n		1007 Second Ave\n	\n		$25.00 for Chamber Members\; $30.00 for non-members\n	\n		Please rsvp by January 7 to Leslie Means  lmeans@kearneycoc.org or (308) 237-3101\n	\n		Breakfast is provided\n	\n		Presented by:  Mike Henke\n\n\n	\n		Is it difficult to find employees who have the work ethic you want? Who want to work for your organization long term? Who care as much as you do? Join our interactive discussion that explains what today's workforce responds to\, and new ways to be a Leader.\n	\n		Also included in the workshop is a question and answer session.  Let us know the challenges you face (send them in prior to the session to lmeans@kearneycoc.org)\, and you will receive solutions that work specifically for you!\n\n\n	Seating is limited and reservations are required.  You can pay in advance or at the door.  To reserve your lunch and seat\, call the Chamber at (308) 237-3101.  If you reserve a spot but are unable to attend\, you must cancel your reservation 24 hours before the event or you will be billed.
X-ALT-DESC;FMTTYPE=text/html:<p>\n	<b style="color: rgb(0\, 0\, 0)\; font-family: Helvetica\, Arial\, sans-serif\;"><font size="3">The Leadership Challenge - Does anyone want to work?</font></b></p>\n<ul style="color: rgb(0\, 0\, 0)\; font-family: Helvetica\, Arial\, sans-serif\;">\n	<li style="list-style-type: square\;">\n		Thursday\, January 9</li>\n	<li style="list-style-type: square\;">\n		8:30 am-10:30 am</li>\n	<li style="list-style-type: square\;">\n		Kearney Area Chamber of Commerce Board Room</li>\n	<li style="list-style-type: square\;">\n		1007 Second Ave</li>\n	<li style="list-style-type: square\;">\n		$25.00 for Chamber Members\; $30.00 for non-members</li>\n	<li style="list-style-type: square\;">\n		Please rsvp by January 7 to Leslie Means&nbsp\;&nbsp\;<a href="mailto:lmeans@kearneycoc.org" style="text-decoration: none\; color: rgb(0\, 51\, 102)\;">lmeans@kearneycoc.org</a>&nbsp\;or (308) 237-3101</li>\n	<li style="list-style-type: square\;">\n		Breakfast is provided</li>\n	<li style="list-style-type: square\;">\n		Presented by: &nbsp\;Mike Henke</li>\n</ul>\n<div style="color: rgb(0\, 0\, 0)\; font-family: Helvetica\, Arial\, sans-serif\;">\n	<p>\n		Is it difficult to find employees who have the work ethic you want? Who want to work for your organization long term? Who care as much as you do? Join our interactive discussion that explains what today&#39\;s workforce responds to\, and new ways to be a Leader.</p>\n	<p>\n		Also included in the workshop is a question and answer session. &nbsp\;Let us know the challenges you face (send them in prior to the session to lmeans@kearneycoc.org)\, and you will receive solutions that work specifically for you!</p>\n</div>\n<p style="color: rgb(0\, 0\, 0)\; font-family: Helvetica\, Arial\, sans-serif\;">\n	Seating is limited and reservations are required.&nbsp\; You can pay in advance or at the door.&nbsp\; To reserve your lunch and seat\, call the Chamber at (308) 237-3101.&nbsp\; If you reserve a spot but are unable to attend\, you must cancel your reservation 24 hours before the event or you will be billed.</p>\n
LOCATION:Kearney Area Chamber of Commerce
UID:e.1404.3655
SEQUENCE:3
DTSTAMP:20260423T195622Z
URL:https://members.kearneycoc.org/events/details/the-leadership-challenge-does-anyone-want-to-work-01-09-2014-3655
END:VEVENT

END:VCALENDAR
