BEGIN:VCALENDAR
VERSION:2.0
PRODID:-//ChamberMaster//Event Calendar 2.0//EN
METHOD:PUBLISH
X-PUBLISHED-TTL:P3D
REFRESH-INTERVAL:P3D
CALSCALE:GREGORIAN
BEGIN:VEVENT
DTSTART:20130215T010000Z
DTEND:20130215T030000Z
X-MICROSOFT-CDO-ALLDAYEVENT:FALSE
SUMMARY:The Lettermen
DESCRIPTION:Enjoy an evening of non-stop harmony from their first hit "The Way You Look Tonight" from 1961 through current hits today!
X-ALT-DESC;FMTTYPE=text/html:Enjoy an evening of non-stop harmony from their first hit &quot\;The Way You Look Tonight&quot\; from 1961 through current hits today!<br />\n
LOCATION:Merryman Performing Arts Center 225 W. 22nd St.\, Kearney NE 68845
UID:e.1404.1952
SEQUENCE:3
DTSTAMP:20260424T155708Z
URL:https://members.kearneycoc.org/events/details/the-lettermen-02-14-2013-1952
END:VEVENT

END:VCALENDAR
