BEGIN:VCALENDAR
VERSION:2.0
PRODID:-//ChamberMaster//Event Calendar 2.0//EN
METHOD:PUBLISH
X-PUBLISHED-TTL:P3D
REFRESH-INTERVAL:P3D
CALSCALE:GREGORIAN
BEGIN:VEVENT
DTSTART:20210921T190000Z
DTEND:20210921T210000Z
X-MICROSOFT-CDO-ALLDAYEVENT:FALSE
SUMMARY:The Lettermen - Matinee
DESCRIPTION:We've had so much interest that we decided to add a matinee! Enjoy an afternoon of non-stop harmony with The Lettermen and many of their hits including "The Way you Look Tonight"\, "Put Your Head on My Shoulder"\, "Goin' Out of My Head"\, "Can't Take My Eyes off of You" and "When I Fall in Love." You may purchase tickets at pickmytickets.com or by calling our box office at (308) 698-8297. THIS IS A RESCHEDULED PERFORMANCE. If you had tickets to the original performance\, then your tickets are STILL GOOD for this rescheduled matinee. Masks are optional for fully vaccinated persons at our venue\, and seating will be at FULL CAPACITY!
X-ALT-DESC;FMTTYPE=text/html:We&#39\;ve had so much interest that we decided to add a matinee! Enjoy an afternoon of non-stop harmony with The Lettermen and many of their hits including &ldquo\;The Way you Look Tonight&rdquo\;\, &ldquo\;Put Your Head on My Shoulder&rdquo\;\, &ldquo\;Goin&rsquo\; Out of My Head&rdquo\;\, &ldquo\;Can&rsquo\;t Take My Eyes off of You&rdquo\; and &ldquo\;When I Fall in Love.&rdquo\; You may purchase tickets at pickmytickets.com or by calling our box office at (308) 698-8297. THIS IS A RESCHEDULED PERFORMANCE. If you had tickets to the original performance\, then your tickets are STILL GOOD for this rescheduled matinee. Masks are optional for fully vaccinated persons at our venue\, and seating will be at FULL CAPACITY!
LOCATION:Merryman Performing Arts Center 225 W 22nd Street Kearney\, 68845
UID:e.1404.19389
SEQUENCE:3
DTSTAMP:20260424T020653Z
URL:https://members.kearneycoc.org/events/details/the-lettermen-matinee-19389
END:VEVENT

END:VCALENDAR
