BEGIN:VCALENDAR
VERSION:2.0
PRODID:-//ChamberMaster//Event Calendar 2.0//EN
METHOD:PUBLISH
X-PUBLISHED-TTL:P3D
REFRESH-INTERVAL:P3D
CALSCALE:GREGORIAN
BEGIN:VEVENT
DTSTART:20190926T000000Z
DTEND:20190926T023000Z
X-MICROSOFT-CDO-ALLDAYEVENT:FALSE
SUMMARY:The Midtown Men
DESCRIPTION:Stars from the original Broadway cast of "Jersey Boys" bring their sensational sound and top-shelf choreography as they bring to life your favorite 60's hits by the best of Motown\, the Beatles the Beach Boys and of course\, Frankie Valli and the Four Seasons!
X-ALT-DESC;FMTTYPE=text/html:Stars from the original Broadway cast of &ldquo\;Jersey Boys&rdquo\; bring their sensational sound and top-shelf choreography as they bring to life your favorite 60&rsquo\;s hits by the best of Motown\, the Beatles the Beach Boys and of course\, Frankie Valli and the Four Seasons!
LOCATION:The Merryman Performing Arts Center 225 W 22nd Street
UID:e.1404.16577
SEQUENCE:3
DTSTAMP:20260425T180640Z
URL:https://members.kearneycoc.org/events/details/the-midtown-men-16577
END:VEVENT

END:VCALENDAR
