BEGIN:VCALENDAR
VERSION:2.0
PRODID:-//ChamberMaster//Event Calendar 2.0//EN
METHOD:PUBLISH
X-PUBLISHED-TTL:P3D
REFRESH-INTERVAL:P3D
CALSCALE:GREGORIAN
BEGIN:VEVENT
DTSTART:20130615T210000Z
DTEND:20130616T030000Z
X-MICROSOFT-CDO-ALLDAYEVENT:FALSE
SUMMARY:The Queen's Birthday
DESCRIPTION:Fundraiser for NAP. $20 entry fee. Tea\, dinner\, live music\, and two drink tickets included. Silent Auction. Tea time is 4:30\; Dinner is 6:45.
X-ALT-DESC;FMTTYPE=text/html:Fundraiser for NAP. $20 entry fee. Tea\, dinner\, live music\, and two drink tickets included. Silent Auction.&nbsp\;Tea time is 4:30\; Dinner is 6:45.
LOCATION:
UID:e.1404.3183
SEQUENCE:3
DTSTAMP:20260424T102249Z
URL:https://members.kearneycoc.org/events/details/the-queen-s-birthday-06-15-2013-3183
END:VEVENT

END:VCALENDAR
