BEGIN:VCALENDAR
VERSION:2.0
PRODID:-//ChamberMaster//Event Calendar 2.0//EN
METHOD:PUBLISH
X-PUBLISHED-TTL:P3D
REFRESH-INTERVAL:P3D
CALSCALE:GREGORIAN
BEGIN:VEVENT
DTSTART:20190313T193000Z
DTEND:20190313T213000Z
X-MICROSOFT-CDO-ALLDAYEVENT:FALSE
SUMMARY:The Sixties
DESCRIPTION:Learn stuff\, gain some insight. This Senior College class will be 12 hours of structured discussion about the historically "long" Sixties\, 1960-1973. Themes will include Vietnam\, Immigration and the Chicano Movement\, American Indian Movement\, Environmentalism\, and the Civil Rights Movement.
X-ALT-DESC;FMTTYPE=text/html:Learn stuff\, gain some insight. This Senior College class will be 12 hours of structured discussion about the historically &ldquo\;long&rdquo\; Sixties\, 1960-1973. Themes will include Vietnam\, Immigration and the Chicano Movement\, American Indian Movement\, Environmentalism\, and the Civil Rights Movement.
LOCATION:Ockinga Auditorium on University of Nebraska Kearney Campus
UID:e.1404.15406
SEQUENCE:3
DTSTAMP:20260426T032950Z
URL:https://members.kearneycoc.org/events/details/the-sixties-15406
END:VEVENT

END:VCALENDAR
