BEGIN:VCALENDAR
VERSION:2.0
PRODID:-//ChamberMaster//Event Calendar 2.0//EN
METHOD:PUBLISH
X-PUBLISHED-TTL:P3D
REFRESH-INTERVAL:P3D
CALSCALE:GREGORIAN
BEGIN:VEVENT
DTSTART:20160120T010000Z
DTEND:20160121T030000Z
X-MICROSOFT-CDO-ALLDAYEVENT:FALSE
SUMMARY:The Texas Tenors
DESCRIPTION:From Alabama to Puccini\, The Texas Tenors (American's Got Talent) treat audiences to a unique harmony of Country\, Classical\, Broadway\, and Contemporary music. Their breathtaking vocals\, humor\, and a touch of cowboy charm create a memorable and musically impressive evening.
X-ALT-DESC;FMTTYPE=text/html:From Alabama to Puccini\, The Texas Tenors (American&#39\;s Got Talent) treat audiences to a unique harmony of Country\, Classical\, Broadway\, and Contemporary music. Their breathtaking vocals\, humor\, and a touch of cowboy charm create a memorable and musically impressive evening.
LOCATION:Merryman Performing Arts Center
UID:e.1404.7037
SEQUENCE:3
DTSTAMP:20260422T032229Z
URL:https://members.kearneycoc.org/events/details/the-texas-tenors-01-19-2016-7037
END:VEVENT

END:VCALENDAR
