BEGIN:VCALENDAR
VERSION:2.0
PRODID:-//ChamberMaster//Event Calendar 2.0//EN
METHOD:PUBLISH
X-PUBLISHED-TTL:P3D
REFRESH-INTERVAL:P3D
CALSCALE:GREGORIAN
BEGIN:VEVENT
DTSTART:20150116T010000Z
DTEND:20150116T033000Z
X-MICROSOFT-CDO-ALLDAYEVENT:FALSE
SUMMARY:The Very Hungry Caterpillar & Other Eric Carle Favorites
DESCRIPTION:Three beloved children?s stories by Eric Carle\; The Very Hungry Caterpillar\, Little Cloud\, and The Mixed-Up Chameleon\, are retold on stage through the magic of black light and fanciful puppets.
X-ALT-DESC;FMTTYPE=text/html:Three beloved children?s stories by Eric Carle\; The Very Hungry Caterpillar\, Little Cloud\, and The Mixed-Up Chameleon\, are retold on stage through the magic of black light and fanciful puppets.
LOCATION:Merryman Performing Arts Center 225 West 22nd Street
UID:e.1404.5329
SEQUENCE:3
DTSTAMP:20260422T225830Z
URL:https://members.kearneycoc.org/events/details/the-very-hungry-caterpillar-other-eric-carle-favorites-01-15-2015-5329
END:VEVENT

END:VCALENDAR
