BEGIN:VCALENDAR
VERSION:2.0
PRODID:-//ChamberMaster//Event Calendar 2.0//EN
METHOD:PUBLISH
X-PUBLISHED-TTL:P3D
REFRESH-INTERVAL:P3D
CALSCALE:GREGORIAN
BEGIN:VEVENT
DTSTART:20131110T003000Z
DTEND:20131110T030000Z
X-MICROSOFT-CDO-ALLDAYEVENT:FALSE
SUMMARY:"The Wicked Witch of the Old West"
DESCRIPTION:Reservations on sale now at the KCT box office or www.kearneycommunitytheatre.com\n\n\n\n\n\nPrices\n\nTheatre Only  $8.00\n\nDinner Theatre $13.00\n\nSunday Sundae's $10.50\n\n \n\nAdvanced reservations recommended.
X-ALT-DESC;FMTTYPE=text/html:<strong><span style="font-family:verdana\,sans-serif\;"><span style="font-size:8.5pt\;">Reservations on sale now at the KCT box office or <a href="http://www.kearneycommunitytheatre.com">www.kearneycommunitytheatre.com</a></span></span></strong><br />\n<br />\n<br />\n<strong><span style="font-family:verdana\,sans-serif\;"><span style="font-size:8.5pt\;">Prices</span></span></strong><br />\n<strong><span style="font-family:verdana\,sans-serif\;"><span style="font-size:8.5pt\;">Theatre Only&nbsp\; $8.00</span></span></strong><br />\n<strong><span style="font-family:verdana\,sans-serif\;"><span style="font-size:8.5pt\;">Dinner Theatre $13.00<br />\nSunday Sundae&rsquo\;s $10.50</span></span></strong><br />\n&nbsp\;<br />\n<strong><span style="font-family:verdana\,sans-serif\;"><span style="font-size:8.5pt\;">Advanced reservations recommended.</span></span></strong>
LOCATION:Kearney Community Theatre 83 Plaza Blvd
UID:e.1404.3354
SEQUENCE:3
DTSTAMP:20260423T231513Z
URL:https://members.kearneycoc.org/events/details/the-wicked-witch-of-the-old-west-11-09-2013-3354
END:VEVENT

END:VCALENDAR
