BEGIN:VCALENDAR
VERSION:2.0
PRODID:-//ChamberMaster//Event Calendar 2.0//EN
METHOD:PUBLISH
X-PUBLISHED-TTL:P3D
REFRESH-INTERVAL:P3D
CALSCALE:GREGORIAN
BEGIN:VEVENT
DTSTART:20211022T000000Z
DTEND:20211025T020000Z
X-MICROSOFT-CDO-ALLDAYEVENT:FALSE
SUMMARY:The Woman in Black
DESCRIPTION:The Woman in Black presented by Crane River Theater The World Theatre 2318 Central Avenue   Kearney\, Nebraska October 21-24   7 pm Special Late Night Showing October 22   10 pm Adults $20 Students $10 Tickets available at CraneRiverTheater.org or by calling 308-627-5796. In the spine-tingling thriller The Woman in Black\, a lawyer's obsessed with a curse that he believes was cast over his family by a specter. He recruits a skeptical young actor to help him tell his terrifying story in an attempt to exorcise the fear that grips his soul. The suspense builds as the two men act out the tale that took place on a dark and stormy night years ago. The Woman in Black has set audiences screaming for over thirty years. Presented at the World Theatre in downtown Kearney\, it will send you home uncertain as to whether or not you watched a play or caught sight of a ghost yourself.
X-ALT-DESC;FMTTYPE=text/html:The Woman in Black presented by Crane River Theater The World Theatre 2318 Central Avenue &bull\; Kearney\, Nebraska October 21-24 &bull\; 7 pm Special Late Night Showing October 22 &bull\; 10 pm Adults $20 Students $10 Tickets available at CraneRiverTheater.org or by calling 308-627-5796. In the spine-tingling thriller The Woman in Black\, a lawyer&rsquo\;s obsessed with a curse that he believes was cast over his family by a specter. He recruits a skeptical young actor to help him tell his terrifying story in an attempt to exorcise the fear that grips his soul. The suspense builds as the two men act out the tale that took place on a dark and stormy night years ago. The Woman in Black has set audiences screaming for over thirty years. Presented at the World Theatre in downtown Kearney\, it will send you home uncertain as to whether or not you watched a play or caught sight of a ghost yourself.
LOCATION:The World Theatre 2318 Central Avenue\, Kearney
UID:e.1404.19438
SEQUENCE:3
DTSTAMP:20260423T232703Z
URL:https://members.kearneycoc.org/events/details/the-woman-in-black-19438
END:VEVENT

END:VCALENDAR
