BEGIN:VCALENDAR
VERSION:2.0
PRODID:-//ChamberMaster//Event Calendar 2.0//EN
METHOD:PUBLISH
X-PUBLISHED-TTL:P3D
REFRESH-INTERVAL:P3D
CALSCALE:GREGORIAN
BEGIN:VEVENT
DTSTART:20150221T010000Z
DTEND:20150221T033000Z
X-MICROSOFT-CDO-ALLDAYEVENT:FALSE
SUMMARY:The World Famous Popovich Comedy Pet Theatre
DESCRIPTION:Direct from Las Vegas\, ?America?s Got Talent? runner-up Gregory Popovich will amaze you with performances by rescued cats\, dogs\, birds\, and even mice!
X-ALT-DESC;FMTTYPE=text/html:Direct from Las Vegas\, ?America?s Got Talent? runner-up Gregory Popovich will amaze you with performances by rescued cats\, dogs\, birds\, and even mice!
LOCATION:Merryman Performing Arts Center 225 West 22nd Street
UID:e.1404.5331
SEQUENCE:3
DTSTAMP:20260422T225807Z
URL:https://members.kearneycoc.org/events/details/the-world-famous-popovich-comedy-pet-theatre-02-20-2015-5331
END:VEVENT

END:VCALENDAR
