BEGIN:VCALENDAR
VERSION:2.0
PRODID:-//ChamberMaster//Event Calendar 2.0//EN
METHOD:PUBLISH
X-PUBLISHED-TTL:P3D
REFRESH-INTERVAL:P3D
CALSCALE:GREGORIAN
BEGIN:VEVENT
DTSTART;VALUE=DATE:20130223
DTEND;VALUE=DATE:20130224
TRANSP:TRANSPARENT
X-MICROSOFT-CDO-ALLDAYEVENT:TRUE
SUMMARY:The World Theatre Presents the First Annual Red Carpet Event
DESCRIPTION:The World Theatre's First Annual Red Carpet Event will offer guests a sneak peek into the inner workings of Disney Animation Studios. Darrin Butters\, a Kearney native and a Disney animator\, will share how Disney films are made\, discuss the state of Hollywood and answer select questions from the audience.
X-ALT-DESC;FMTTYPE=text/html:The World Theatre&#39\;s First Annual Red Carpet Event will offer guests a sneak peek into the inner workings of Disney Animation Studios. Darrin Butters\, a Kearney native and a Disney animator\, will share how Disney films are made\, discuss the state of Hollywood and answer select questions from the audience. &nbsp\; &nbsp\;&nbsp\;
LOCATION:The World Theatre 2318 Central Avenue' Kearney\, NE
UID:e.1404.2246
SEQUENCE:3
DTSTAMP:20260424T160049Z
URL:https://members.kearneycoc.org/events/details/the-world-theatre-presents-the-first-annual-red-carpet-event-02-23-2013-2246
END:VEVENT

END:VCALENDAR
