BEGIN:VCALENDAR
VERSION:2.0
PRODID:-//ChamberMaster//Event Calendar 2.0//EN
METHOD:PUBLISH
X-PUBLISHED-TTL:P3D
REFRESH-INTERVAL:P3D
CALSCALE:GREGORIAN
BEGIN:VEVENT
DTSTART:20190427T200000Z
DTEND:20190428T000000Z
X-MICROSOFT-CDO-ALLDAYEVENT:FALSE
SUMMARY:Thunderfest 2019
DESCRIPTION:Band: The Killigans Food: The Big Pig Beer: Thunderhead Brewing
X-ALT-DESC;FMTTYPE=text/html:Band: The Killigans Food: The Big Pig Beer: Thunderhead Brewing
LOCATION:A Ave & 23rd St\, 100 E 23rd St\, Kearney\, NE 68847
UID:e.1404.15655
SEQUENCE:3
DTSTAMP:20260426T020253Z
URL:https://members.kearneycoc.org/events/details/thunderfest-2019-15655
END:VEVENT

END:VCALENDAR
