BEGIN:VCALENDAR
VERSION:2.0
PRODID:-//ChamberMaster//Event Calendar 2.0//EN
METHOD:PUBLISH
X-PUBLISHED-TTL:P3D
REFRESH-INTERVAL:P3D
CALSCALE:GREGORIAN
BEGIN:VEVENT
DTSTART:20140522T220000Z
DTEND:20140523T020000Z
X-MICROSOFT-CDO-ALLDAYEVENT:FALSE
SUMMARY:Thursday Night Pokemon
DESCRIPTION:Gotta Catch them all at The Den! For Kids of all ages! Come join us for Thursday Night Pokemon! Every Thursday at The Den!\n\nTournaments & Casual Play! For more information call 308-224-3733
X-ALT-DESC;FMTTYPE=text/html:Gotta Catch them all at The Den!&nbsp\;For Kids of all ages! Come join us for Thursday Night Pokemon!&nbsp\;Every Thursday at The Den!<br />\nTournaments &amp\; Casual Play! For more information call 308-224-3733
LOCATION:The Troll's Den 3815 2nd Ave Kearney\, NE
UID:e.1404.4706
SEQUENCE:3
DTSTAMP:20260423T132658Z
URL:https://members.kearneycoc.org/events/details/thursday-night-pokemon-05-22-2014-4706
END:VEVENT

END:VCALENDAR
