BEGIN:VCALENDAR
VERSION:2.0
PRODID:-//ChamberMaster//Event Calendar 2.0//EN
METHOD:PUBLISH
X-PUBLISHED-TTL:P3D
REFRESH-INTERVAL:P3D
CALSCALE:GREGORIAN
BEGIN:VEVENT
DTSTART:20141211T140000Z
DTEND:20141211T170000Z
X-MICROSOFT-CDO-ALLDAYEVENT:FALSE
SUMMARY:Thursday Tailgates
DESCRIPTION:The Kearney Area Chamber is very excited to roll out our new TIERED DUES system in Mid-November! We have been working hard over the last six months\, with a task force of your peers\, to create a new dues system that is easy to understand. It's called "Build It" and here are some of the improvements you will see:\n\n\n	 No arbitrary numbers- Members will no longer be charged by the number of people you employ\, the number of associates in your office\, the number of chairs in your restaurant\, or the number of rooms in your hotel\n	Clear and easy to understand- "Build-It" allows you to choose from six levels of investment and clearly see what benefits you get in return\n	Built in marketing- Depending on the level you choose\, built in marketing credits are available to use in a way that best fits your business model\n	A la Carte Menu- With the addition of the A la Carte Menu\, you can choose what sponsorship\, participation\, and advertising options are best suited for your business\n\n \n\nWe understand this is a big change and we want to help by answering any questions you have. So\, to assist you\, the Chamber will host informal "Tailgates" every Thursday in November & December from 8:00-11:00AM (excluding Thanksgiving & Christmas) at the Chamber office.\n\n \n\nThe Tailgates will give you an opportunity to meet one-on-one with Chamber staff members to:\n\n \n\n	Learn about the Tiered Dues System\n	See how this impacts and benefits your business\n	Ask questions about the A la Carte Menu and the various opportunities presented\n	Register to win fantastic prizes such as stadium cups\, tickets to games\, jerseys & more!\n\n \n\nPlease know that we are committed to ensuring that each Chamber Member receives the best service\, benefits and value for the membership. We appreciate your investment and look forward to achieving the best for your business and the Kearney area community!
X-ALT-DESC;FMTTYPE=text/html:The Kearney Area Chamber is very excited to roll out our new <strong><u>TIERED DUES</u></strong> system in Mid-November! We have been working hard over the last six months\, with a task force of your peers\, to create a new dues system that is easy to understand. It&rsquo\;s called <strong><u>&ldquo\;Build It&rdquo\;</u></strong> and here are some of the improvements you will see:\n\n<ul>\n	<li>&nbsp\;<strong>No arbitrary numbers- </strong>Members will no longer be charged by the number of people you employ\, the number of associates in your office\, the number of chairs in your restaurant\, or the number of rooms in your hotel</li>\n	<li><strong>Clear and easy to understand-</strong> <strong><u>&ldquo\;Build-It&rdquo\;</u></strong> allows you to choose from six levels of investment and clearly see what benefits you get in return</li>\n	<li><strong>Built in marketing-</strong> Depending on the level you choose\, built in marketing credits are available to use in a way that best fits your business model</li>\n	<li><strong>A la Carte Menu- </strong>With the addition of the A la Carte Menu\, you can choose what sponsorship\, participation\, and advertising options are best suited for your business</li>\n</ul>\n&nbsp\;<br />\nWe understand this is a big change and we want to help by answering any questions you have. <strong>So\, to assist you\, the Chamber will host informal &ldquo\;Tailgates&rdquo\; every Thursday in November &amp\; December from 8:00-11:00AM</strong> (excluding Thanksgiving &amp\; Christmas) at the Chamber office.<br />\n&nbsp\;<br />\nThe Tailgates will give you an opportunity to meet one-on-one with Chamber staff members to:<br />\n&nbsp\;\n<ul>\n	<li><strong>Learn</strong> about the Tiered Dues System</li>\n	<li><strong>See</strong> how this impacts and benefits your business</li>\n	<li><strong>Ask</strong> questions about the A la Carte Menu and the various opportunities presented</li>\n	<li><strong>Register</strong> to win fantastic prizes such as stadium cups\, tickets to games\, jerseys &amp\; more!</li>\n</ul>\n&nbsp\;<br />\nPlease know that we are committed to ensuring that each Chamber Member receives the best service\, benefits and value for the membership. We appreciate your investment and look forward to achieving the best for your business and the Kearney area community!&nbsp\;
LOCATION:Kearney Area Chamber of Commerce 1007 2nd Ave
UID:e.1404.5400
SEQUENCE:3
DTSTAMP:20260423T032910Z
URL:https://members.kearneycoc.org/events/details/thursday-tailgates-12-11-2014-5400
END:VEVENT

END:VCALENDAR
