BEGIN:VCALENDAR
VERSION:2.0
PRODID:-//ChamberMaster//Event Calendar 2.0//EN
METHOD:PUBLISH
X-PUBLISHED-TTL:P3D
REFRESH-INTERVAL:P3D
CALSCALE:GREGORIAN
BEGIN:VEVENT
DTSTART:20191013T020000Z
DTEND:20191013T060000Z
X-MICROSOFT-CDO-ALLDAYEVENT:FALSE
SUMMARY:Tim Zach & Whiskey Bent Live at JD's
DESCRIPTION:Enjoy a night out at JD's by seeing Tim Zach perform live with Whiskey Bent!
X-ALT-DESC;FMTTYPE=text/html:Enjoy a night out at JD&#39\;s by seeing Tim Zach perform live with Whiskey Bent!
LOCATION:2023 1st Ave Kearney\, NE 68847
UID:e.1404.17902
SEQUENCE:3
DTSTAMP:20260425T164028Z
URL:https://members.kearneycoc.org/events/details/tim-zach-whiskey-bent-live-at-jd-s-17902
END:VEVENT

END:VCALENDAR
