BEGIN:VCALENDAR
VERSION:2.0
PRODID:-//ChamberMaster//Event Calendar 2.0//EN
METHOD:PUBLISH
X-PUBLISHED-TTL:P3D
REFRESH-INTERVAL:P3D
CALSCALE:GREGORIAN
BEGIN:VEVENT
DTSTART:20211002T000000Z
DTEND:20211002T030000Z
X-MICROSOFT-CDO-ALLDAYEVENT:FALSE
SUMMARY:Timberline - 50th Anniversary Reunion Concert
DESCRIPTION:Emmy award winning songwriter and Kearney native Jim Salestrom will be reuniting the local favorite\, 'Timberline'\, for a special performance here at the Merryman! Masks are optional for fully vaccinated persons at our venue\, and seating will be at FULL CAPACITY! Tickets are on sale now at pickmytickets.com or by calling box office at (308) 698-8297.
X-ALT-DESC;FMTTYPE=text/html:Emmy award winning songwriter and Kearney native Jim Salestrom will be reuniting the local favorite\, &lsquo\;Timberline&rsquo\;\, for a special performance here at the Merryman! Masks are optional for fully vaccinated persons at our venue\, and seating will be at FULL CAPACITY! Tickets are on sale now at pickmytickets.com or by calling box office at (308) 698-8297.
LOCATION:Merryman Performing Arts Center 225 W 22nd Street Kearney\, NE
UID:e.1404.19393
SEQUENCE:3
DTSTAMP:20260423T232722Z
URL:https://members.kearneycoc.org/events/details/timberline-50th-anniversary-reunion-concert-19393
END:VEVENT

END:VCALENDAR
