BEGIN:VCALENDAR
VERSION:2.0
PRODID:-//ChamberMaster//Event Calendar 2.0//EN
METHOD:PUBLISH
X-PUBLISHED-TTL:P3D
REFRESH-INTERVAL:P3D
CALSCALE:GREGORIAN
BEGIN:VEVENT
DTSTART:20130907T003000Z
DTEND:20130907T030000Z
X-MICROSOFT-CDO-ALLDAYEVENT:FALSE
SUMMARY:Tonic Sol-fa
DESCRIPTION:Although they are simply four voices and a tambourine\, Tonic Sol-fa has spent considerable time on the road carving their niche as the nation's top vocal group. In the midst of touring\, this quartet has been named one of the top five "must see" groups in America\, has been awarded numerous original song and album awards in pop\, gospel and holiday genres\, appeared on NBC's Today Show and in the pages of Newsweek magazine. Tickets can be purchased online at MindenOperaHouse.com or by calling 308-832-0588.
X-ALT-DESC;FMTTYPE=text/html:<p class="MsoNormal" style="mso-pagination:widow-orphan\;margin-left:8.8159pt\;\nmargin-right:-27.0pt\;margin-bottom:10.0pt">\n	<span lang="en-US" mso-cyrillic-font-family:="" segoe="" style="font-family:\n">Although they are simply four voices and a tambourine\, Tonic Sol-fa has spent considerable time on the road carving their niche as the nation&rsquo\;s top vocal group. In the midst of touring\, this quartet has been named one of the top five &ldquo\;must see&rdquo\; groups in America\, has been awarded numerous original song and album awards in pop\, gospel and holiday genres\, appeared on NBC&rsquo\;s Today Show and in the pages of Newsweek magazine. Tickets can be purchased online at MindenOperaHouse.com or by calling 308-832-0588.</span></p>\n<p class="MsoNormal">\n	<span lang="en-US">&nbsp\;</span></p>\n
LOCATION:Minden Opera House
UID:e.1404.3289
SEQUENCE:3
DTSTAMP:20260424T020448Z
URL:https://members.kearneycoc.org/events/details/tonic-sol-fa-09-06-2013-3289
END:VEVENT

END:VCALENDAR
