BEGIN:VCALENDAR
VERSION:2.0
PRODID:-//ChamberMaster//Event Calendar 2.0//EN
METHOD:PUBLISH
X-PUBLISHED-TTL:P3D
REFRESH-INTERVAL:P3D
CALSCALE:GREGORIAN
BEGIN:VEVENT
DTSTART:20150825T210000Z
DTEND:20150826T010000Z
X-MICROSOFT-CDO-ALLDAYEVENT:FALSE
SUMMARY:Tour of Agencies
DESCRIPTION:The United Way of the Kearney Area invites the community to caravan with us to learn more about our partner agencies. We will stop at each agency and have them present all that they do for the Kearney area.You are welcome to go to as many agencies as you would like.
X-ALT-DESC;FMTTYPE=text/html:The United Way of the Kearney Area invites the community to caravan with us to learn more about our partner agencies. We will stop at each agency and have them present all that they do for the Kearney area.You are welcome to go to as many agencies as you would like.
LOCATION:Start and end at the United Way office at 4009 6th Avenue Suite 19
UID:e.1404.6684
SEQUENCE:3
DTSTAMP:20260422T114908Z
URL:https://members.kearneycoc.org/events/details/tour-of-agencies-08-25-2015-6684
END:VEVENT

END:VCALENDAR
