BEGIN:VCALENDAR
VERSION:2.0
PRODID:-//ChamberMaster//Event Calendar 2.0//EN
METHOD:PUBLISH
X-PUBLISHED-TTL:P3D
REFRESH-INTERVAL:P3D
CALSCALE:GREGORIAN
BEGIN:VEVENT
DTSTART:20211019T210000Z
DTEND:20211019T220000Z
X-MICROSOFT-CDO-ALLDAYEVENT:FALSE
SUMMARY:Tour of Law Enforcement
DESCRIPTION:The Police Department extends an open invitation for the public to come visit them from 4:00 p.m. to 5:00 p.m. Meet and greet your local Law Enforcement Officers at the Law Enforcement Center and get a tour of their cruisers and equipment.
X-ALT-DESC;FMTTYPE=text/html:The Police Department extends an open invitation for the public to come visit them from 4:00 p.m. to 5:00 p.m. Meet and greet your local Law Enforcement Officers at the Law Enforcement Center and get a tour of their cruisers and equipment.
LOCATION:2025 A Avenue\, Kearney\, NE 68847
UID:e.1404.19439
SEQUENCE:3
DTSTAMP:20260423T232707Z
URL:https://members.kearneycoc.org/events/details/tour-of-law-enforcement-19439
END:VEVENT

END:VCALENDAR
