BEGIN:VCALENDAR
VERSION:2.0
PRODID:-//ChamberMaster//Event Calendar 2.0//EN
METHOD:PUBLISH
X-PUBLISHED-TTL:P3D
REFRESH-INTERVAL:P3D
CALSCALE:GREGORIAN
BEGIN:VEVENT
DTSTART:20130608T150000Z
DTEND:20130608T200000Z
X-MICROSOFT-CDO-ALLDAYEVENT:FALSE
SUMMARY:Traeger Nationals
DESCRIPTION:Traeger Nationals Amateur BBQ contest and fundraiser for the Kearney Volunteer Fire Department! It's a great day of fun for a BBQ! We will have grillers competing for prizes in our parking lot\, Traeger grill specials\, Dickey's barbecue for lunch and more! It's the 130th year anniversary of our Kearney Volunteer Fire department  and they are bringing some antique trucks and new trucks! Come help us raise funds for our KVFD and check out some great Traeger grillers! Vote for your favorite griller with the People's Choice award!
X-ALT-DESC;FMTTYPE=text/html:Traeger Nationals Amateur BBQ contest and fundraiser for the Kearney Volunteer Fire Department! It&#39\;s a great day of fun for a BBQ! We will have grillers competing for prizes in our parking lot\, Traeger grill specials\, Dickey&#39\;s barbecue for lunch and more! It&#39\;s the 130th year anniversary of our Kearney Volunteer Fire department&nbsp\; and they are bringing some antique trucks and new trucks! Come help us raise funds for our KVFD and check out some great Traeger grillers! Vote for your favorite griller with the People&#39\;s Choice award! 
LOCATION:Builders 4600 2nd Avenue Kearney
UID:e.1404.3195
SEQUENCE:3
DTSTAMP:20260424T081236Z
URL:https://members.kearneycoc.org/events/details/traeger-nationals-06-08-2013-3195
END:VEVENT

END:VCALENDAR
