BEGIN:VCALENDAR
VERSION:2.0
PRODID:-//ChamberMaster//Event Calendar 2.0//EN
METHOD:PUBLISH
X-PUBLISHED-TTL:P3D
REFRESH-INTERVAL:P3D
CALSCALE:GREGORIAN
BEGIN:VEVENT
DTSTART:20190713T140000Z
DTEND:20190713T150000Z
X-MICROSOFT-CDO-ALLDAYEVENT:FALSE
SUMMARY:Traverse Through Wilderness at U.S. Cellular Device Workshop
DESCRIPTION:As much fun as staying at home can be\, sometimes going on a local adventure or taking a trip through a park can be even more rewarding. Whether you are a novice or veteran explorer\, the latest mobile technology and apps can help compliment your traveling experience. Great outdoors enjoyment has never been easier\, thanks to apps that act as your digital passport\, offer detailed records of optimal hiking trails and instantly alert loved ones in case of an emergency. U.S. Cellular will host a free Device Workshop in Kearney\, where you can use your smartphone to traverse through the wilderness during that next hiking expedition. The workshop is open to everyone. You do not need to be a U.S. Cellular customer to attend. "Navigating through a park or trekking a new trail can be a daunting task if someone is not prepared for the trip. However\, our U.S. Cellular associates are able to provide vital information on the best mobile technology to ensure your trip is both enjoyable and safe\," said Mike Adams\, U.S. Cellular's director of sales for Nebraska and Iowa. "Nothing is more important than being safe\, so whenever we have the opportunity to help give our expert tech advice\, it's a no-brainer." Please call 308-236-2075 for more information.
X-ALT-DESC;FMTTYPE=text/html:As much fun as staying at home can be\, sometimes going on a local adventure or taking a trip through a park can be even more rewarding. Whether you are a novice or veteran explorer\, the latest mobile technology and apps can help compliment your traveling experience. Great outdoors enjoyment has never been easier\, thanks to apps that act as your digital passport\, offer detailed records of optimal hiking trails and instantly alert loved ones in case of an emergency. U.S. Cellular will host a free Device Workshop in Kearney\, where you can use your smartphone to traverse through the wilderness during that next hiking expedition. The workshop is open to everyone. You do not need to be a U.S. Cellular customer to attend. &ldquo\;Navigating through a park or trekking a new trail can be a daunting task if someone is not prepared for the trip. However\, our U.S. Cellular associates are able to provide vital information on the best mobile technology to ensure your trip is both enjoyable and safe\,&rdquo\; said Mike Adams\, U.S. Cellular&rsquo\;s director of sales for Nebraska and Iowa. &ldquo\;Nothing is more important than being safe\, so whenever we have the opportunity to help give our expert tech advice\, it&rsquo\;s a no-brainer.&rdquo\; Please call 308-236-2075 for more information.
LOCATION:U.S. Cellular 5306 Second Ave. Kearney\, NE 68845
UID:e.1404.16575
SEQUENCE:3
DTSTAMP:20260425T213016Z
URL:https://members.kearneycoc.org/events/details/traverse-through-wilderness-at-u-s-cellular-device-workshop-16575
END:VEVENT

END:VCALENDAR
