BEGIN:VCALENDAR
VERSION:2.0
PRODID:-//ChamberMaster//Event Calendar 2.0//EN
METHOD:PUBLISH
X-PUBLISHED-TTL:P3D
REFRESH-INTERVAL:P3D
CALSCALE:GREGORIAN
BEGIN:VEVENT
DTSTART:20150917T163000Z
DTEND:20150918T000000Z
X-MICROSOFT-CDO-ALLDAYEVENT:FALSE
SUMMARY:Tree Planting Workshop
DESCRIPTION:WHEN: Thursday\, September 17 Registration at 11:30 a.m.\,  workshop runs from 12:00 - 4:30 p.m.\n\n\n\nWHERE: Harmon Park Activity Building 5th Ave and West 31st St. in Kearney \n\n\n\nWHAT: This will be a very hands-on workshop.  We'll primarily be outside where participants will engage in best  management practices in the areas of pruning\, watering\, mulching\,  tree selection and planting.  \n\n\n\nFOR: This workshop was designed specifically for landscape  professionals\; city employees\; school maintenance staff\; tree board members or anyone who cares for or manages trees. \n\n\n\nWHY: Trees have a positive impact on our communities. Not only do they improve air quality and cool our communities\, they help to reduce energy costs\, increase property values and improve the overall livability of communities on the Great Plains. Healthy trees benefit communities while poorly managed ones can be costly\, unsightly and dangerous. Learn best management practices that will benefit your community and landscapes for decades to come.
X-ALT-DESC;FMTTYPE=text/html:WHEN: Thursday\, September 17 Registration at 11:30 a.m.\, &nbsp\;workshop runs from 12:00 - 4:30 p.m.<br />\n<br />\nWHERE: Harmon Park Activity Building 5th Ave and West 31st St. in Kearney&nbsp\;<br />\n<br />\nWHAT: This will be a very hands-on workshop. &nbsp\;We&rsquo\;ll primarily be outside where participants will engage in best &nbsp\;management practices in the areas of pruning\, watering\, mulching\, &nbsp\;tree selection and planting. &nbsp\;<br />\n<br />\nFOR: This workshop was designed specifically for landscape &nbsp\;professionals\; city employees\; school maintenance staff\; tree board members or anyone who cares for or manages trees.&nbsp\;<br />\n<br />\nWHY: Trees have a positive impact on our communities. Not only do they improve air quality and cool our communities\, they help to reduce energy costs\, increase property values and improve the overall livability of communities on the Great Plains. Healthy trees benefit communities while poorly managed ones can be costly\, unsightly and dangerous. Learn best management practices that will benefit your community and landscapes for decades to come.&nbsp\;
LOCATION:
UID:e.1404.6730
SEQUENCE:3
DTSTAMP:20260422T101203Z
URL:https://members.kearneycoc.org/events/details/tree-planting-workshop-09-17-2015-6730
END:VEVENT

END:VCALENDAR
