BEGIN:VCALENDAR
VERSION:2.0
PRODID:-//ChamberMaster//Event Calendar 2.0//EN
METHOD:PUBLISH
X-PUBLISHED-TTL:P3D
REFRESH-INTERVAL:P3D
CALSCALE:GREGORIAN
BEGIN:VEVENT
DTSTART:20150204T180000Z
DTEND:20150204T193000Z
X-MICROSOFT-CDO-ALLDAYEVENT:FALSE
SUMMARY:Tri-City Legislative Luncheon
DESCRIPTION:The Kearney\, Grand Island and Hastings Chambers of Commerce are hosting a luncheon with area State Senators. Participants will hear updates on legislation and other pertinent information.
X-ALT-DESC;FMTTYPE=text/html:The Kearney\, Grand Island and Hastings Chambers of Commerce are hosting a luncheon with area State Senators. Participants will hear updates on legislation and other pertinent information.&nbsp\;
LOCATION:State Capital\, Room 1023 Lincoln\, Nebraska
UID:e.1404.5960
SEQUENCE:3
DTSTAMP:20260422T225525Z
URL:https://members.kearneycoc.org/events/details/tri-city-legislative-luncheon-02-04-2015-5960
END:VEVENT

END:VCALENDAR
