BEGIN:VCALENDAR
VERSION:2.0
PRODID:-//ChamberMaster//Event Calendar 2.0//EN
METHOD:PUBLISH
X-PUBLISHED-TTL:P3D
REFRESH-INTERVAL:P3D
CALSCALE:GREGORIAN
BEGIN:VEVENT
DTSTART:20160308T180000Z
DTEND:20160308T193000Z
X-MICROSOFT-CDO-ALLDAYEVENT:FALSE
SUMMARY:Tri-City Legislative Luncheon
DESCRIPTION:The Tri-City Legislative Luncheon\, hosted by the Hastings Area Chamber of Commerce\, in cooperation with the Kearney Chamber of Commerce  and the Grand Island Chamber of Commerce\, will be in Lincoln at the State Capital. Area State Senators will give updates on the Legislative Session.
X-ALT-DESC;FMTTYPE=text/html:The Tri-City Legislative Luncheon\,<span style="font-family:arial\,sans-serif\;">&nbsp\;hosted by the&nbsp\;</span><span style="font-family: arial\, sans-serif\;">Hastings Area Chamber of Commerce\, in cooperation with the Kearney</span><span style="font-family:arial\,sans-serif\;">&nbsp\;Chamber of Commerce &nbsp\;and the Grand Island Chamber of Commerce\, will be in Lincoln at the State Capital. Area State Senators will give updates on the Legislative Session.&nbsp\;</span>
LOCATION:Nebraska State Capital Room 1126
UID:e.1404.7246
SEQUENCE:3
DTSTAMP:20260422T012042Z
URL:https://members.kearneycoc.org/events/details/tri-city-legislative-luncheon-03-08-2016-7246
END:VEVENT

END:VCALENDAR
