BEGIN:VCALENDAR
VERSION:2.0
PRODID:-//ChamberMaster//Event Calendar 2.0//EN
METHOD:PUBLISH
X-PUBLISHED-TTL:P3D
REFRESH-INTERVAL:P3D
CALSCALE:GREGORIAN
BEGIN:VEVENT
DTSTART:20140325T170000Z
DTEND:20140325T183000Z
X-MICROSOFT-CDO-ALLDAYEVENT:FALSE
SUMMARY:Tri-City Legislative Luncheon-CANCELLED
DESCRIPTION:The Tri-City Legislative Luncheon\, hosted by the Kearney Area Chamber of Commerce\, in cooperation with the Hastings Chamber of Commerce  and the Grand Island Chamber of Commerce\, will be in Lincoln at the State Capital in room 1023. Area State Senators will give updates on the Legislative Session.
X-ALT-DESC;FMTTYPE=text/html:The Tri-City Legislative Luncheon\,<span style="font-family:arial\,sans-serif\;">&nbsp\;hosted by the&nbsp\;</span><span style="font-family: arial\, sans-serif\;">Kearney Area Chamber of Commerce\, in cooperation with the H</span><span style="font-family:arial\,sans-serif\;">astings Chamber of Commerce &nbsp\;and the Grand Island Chamber of Commerce\, will be in Lincoln at the State Capital in room 1023. Area State Senators will give updates on the Legislative Session.&nbsp\;</span>
LOCATION:Nebraska State Capital Room 1023
UID:e.1404.4671
SEQUENCE:3
DTSTAMP:20260423T164101Z
URL:https://members.kearneycoc.org/events/details/tri-city-legislative-luncheon-cancelled-03-25-2014-4671
END:VEVENT

END:VCALENDAR
