BEGIN:VCALENDAR
VERSION:2.0
PRODID:-//ChamberMaster//Event Calendar 2.0//EN
METHOD:PUBLISH
X-PUBLISHED-TTL:P3D
REFRESH-INTERVAL:P3D
CALSCALE:GREGORIAN
BEGIN:VEVENT
DTSTART:20190309T010500Z
DTEND:20190309T040000Z
X-MICROSOFT-CDO-ALLDAYEVENT:FALSE
SUMMARY:Tri-City Storm Hockey
DESCRIPTION:Come dance the night away with the Storm! There will be a dance competition throughout the game! Come show us your best dance moves! Doors open at 6pm! Funtastic $5 Kids Friday!
X-ALT-DESC;FMTTYPE=text/html:Come dance the night away with the Storm! There will be a dance competition throughout the game! Come show us your best dance moves! Doors open at 6pm! Funtastic $5 Kids Friday!
LOCATION:Viaero Event Center
UID:e.1404.14406
SEQUENCE:3
DTSTAMP:20260426T033406Z
URL:https://members.kearneycoc.org/events/details/tri-city-storm-hockey-03-08-2019-14406
END:VEVENT

END:VCALENDAR
