BEGIN:VCALENDAR
VERSION:2.0
PRODID:-//ChamberMaster//Event Calendar 2.0//EN
METHOD:PUBLISH
X-PUBLISHED-TTL:P3D
REFRESH-INTERVAL:P3D
CALSCALE:GREGORIAN
BEGIN:VEVENT
DTSTART:20190316T000500Z
DTEND:20190316T030000Z
X-MICROSOFT-CDO-ALLDAYEVENT:FALSE
SUMMARY:Tri-City Storm Hockey
DESCRIPTION:Funtastic $5 Kids Friday! Pack It In Purple presented by Saylor Screenprinting! Before the game we will be having a rivalry car smash! The night will follow with specialty jerseys with an auction following the game!
X-ALT-DESC;FMTTYPE=text/html:Funtastic $5 Kids Friday! Pack It In Purple presented by Saylor Screenprinting! Before the game we will be having a rivalry car smash! The night will follow with specialty jerseys with an auction following the game!
LOCATION:Viaero Event Center
UID:e.1404.14411
SEQUENCE:3
DTSTAMP:20260426T033410Z
URL:https://members.kearneycoc.org/events/details/tri-city-storm-hockey-03-15-2019-14411
END:VEVENT

END:VCALENDAR
