BEGIN:VCALENDAR
VERSION:2.0
PRODID:-//ChamberMaster//Event Calendar 2.0//EN
METHOD:PUBLISH
X-PUBLISHED-TTL:P3D
REFRESH-INTERVAL:P3D
CALSCALE:GREGORIAN
BEGIN:VEVENT
DTSTART:20190317T000500Z
DTEND:20190317T030000Z
X-MICROSOFT-CDO-ALLDAYEVENT:FALSE
SUMMARY:Tri-City Storm Hockey
DESCRIPTION:Part two of Rivalry night! Smash car before the game! Doors open at 6pm.
X-ALT-DESC;FMTTYPE=text/html:Part two of Rivalry night! Smash car before the game! Doors open at 6pm.
LOCATION:Viaero Event Center
UID:e.1404.14413
SEQUENCE:3
DTSTAMP:20260426T033410Z
URL:https://members.kearneycoc.org/events/details/tri-city-storm-hockey-03-16-2019-14413
END:VEVENT

END:VCALENDAR
