BEGIN:VCALENDAR
VERSION:2.0
PRODID:-//ChamberMaster//Event Calendar 2.0//EN
METHOD:PUBLISH
X-PUBLISHED-TTL:P3D
REFRESH-INTERVAL:P3D
CALSCALE:GREGORIAN
BEGIN:VEVENT
DTSTART:20190413T000500Z
DTEND:20190413T030000Z
X-MICROSOFT-CDO-ALLDAYEVENT:FALSE
SUMMARY:Tri-City Storm Hockey
DESCRIPTION:Funtastic $5 Kids Friday! Dash for Cash night\, giving fans a chance to win quick cash! Doors open at 6pm.
X-ALT-DESC;FMTTYPE=text/html:Funtastic $5 Kids Friday! Dash for Cash night\, giving fans a chance to win quick cash! Doors open at 6pm.
LOCATION:Viaero Event Center
UID:e.1404.14414
SEQUENCE:3
DTSTAMP:20260426T033406Z
URL:https://members.kearneycoc.org/events/details/tri-city-storm-hockey-04-12-2019-14414
END:VEVENT

END:VCALENDAR
