BEGIN:VCALENDAR
VERSION:2.0
PRODID:-//ChamberMaster//Event Calendar 2.0//EN
METHOD:PUBLISH
X-PUBLISHED-TTL:P3D
REFRESH-INTERVAL:P3D
CALSCALE:GREGORIAN
BEGIN:VEVENT
DTSTART:20220410T000500Z
DTEND:20220410T030000Z
X-MICROSOFT-CDO-ALLDAYEVENT:FALSE
SUMMARY:Tri-City Storm Hockey Kearney Community Night!
DESCRIPTION:Kearney Community Night at Tri-City Storm Hockey!\n\nReserve discounted tickets through Stormhockey.com\n\nUse price code Kearney Appreciation\, Password: KEARNEY22\n\n\n\nBusiness can marketing during the game with a concourse table ($100).\n\nContact Steve at sbracale@stormhockey.com for more information!
X-ALT-DESC;FMTTYPE=text/html:Kearney Community Night at Tri-City Storm Hockey!<br />\nReserve discounted tickets through <a href="https://www.stormhockey.com/">Stormhockey.com</a><br />\nUse price code Kearney Appreciation\, Password: KEARNEY22<br />\n<br />\nBusiness can marketing during the game with a concourse table ($100).<br />\nContact Steve at sbracale@stormhockey.com for more information!
LOCATION:Viaero Event Center 609 Platte Road Kearney\, NE 68845
UID:e.1404.19660
SEQUENCE:3
DTSTAMP:20260423T150108Z
URL:https://members.kearneycoc.org/events/details/tri-city-storm-hockey-kearney-community-night-19660
END:VEVENT

END:VCALENDAR
