BEGIN:VCALENDAR
VERSION:2.0
PRODID:-//ChamberMaster//Event Calendar 2.0//EN
METHOD:PUBLISH
X-PUBLISHED-TTL:P3D
REFRESH-INTERVAL:P3D
CALSCALE:GREGORIAN
BEGIN:VEVENT
DTSTART:20131102T003000Z
DTEND:20131102T003000Z
X-MICROSOFT-CDO-ALLDAYEVENT:FALSE
SUMMARY:Tri-City Storm vs. Lincoln
DESCRIPTION:"Good Life Cup" Rivalry\n\n\n\nFirst 500 fans receive Free Hot Dogs! Bring the family out for a night of affordable family fun on this Free Kids Friday! (Free Post-Game Skate)
X-ALT-DESC;FMTTYPE=text/html:&quot\;Good Life Cup&quot\; Rivalry<br />\n<br />\nFirst 500 fans receive Free Hot Dogs! Bring the family out for a night of affordable family fun on this Free Kids Friday! (Free Post-Game Skate)&nbsp\;
LOCATION:Viaero Event Center 609 Platte Rd
UID:e.1404.3351
SEQUENCE:3
DTSTAMP:20260423T231246Z
URL:https://members.kearneycoc.org/events/details/tri-city-storm-vs-lincoln-11-01-2013-3351
END:VEVENT

END:VCALENDAR
