BEGIN:VCALENDAR
VERSION:2.0
PRODID:-//ChamberMaster//Event Calendar 2.0//EN
METHOD:PUBLISH
X-PUBLISHED-TTL:P3D
REFRESH-INTERVAL:P3D
CALSCALE:GREGORIAN
BEGIN:VEVENT
DTSTART:20131109T013000Z
DTEND:20131109T013000Z
X-MICROSOFT-CDO-ALLDAYEVENT:FALSE
SUMMARY:Tri-City Storm vs. Omaha
DESCRIPTION:Hilltop Mall Presents Social Media Night at the Storm Game! Tag\, tweet and interact all game long. By the end of the game\, every status will include #BELIEVEPURPLE
X-ALT-DESC;FMTTYPE=text/html:Hilltop Mall Presents Social Media Night at the Storm Game! Tag\, tweet and interact all game long. By the end of the game\, every status will include #BELIEVEPURPLE
LOCATION:Viaero Event Center 609 Platte Rd Kearney\, NE
UID:e.1404.3363
SEQUENCE:3
DTSTAMP:20260423T231230Z
URL:https://members.kearneycoc.org/events/details/tri-city-storm-vs-omaha-11-08-2013-3363
END:VEVENT

END:VCALENDAR
